BEGIN:VCALENDAR
VERSION:2.0
PRODID:gruene-dessau.de
METHOD:PUBLISH
BEGIN:VTIMEZONE
TZID:Europe/Berlin
X-LIC-LOCATION:Europe/Berlin
BEGIN:DAYLIGHT
TZOFFSETFROM:+0100
TZOFFSETTO:+0200
TZNAME:CEST
DTSTART:19700329T020000
RRULE:FREQ=YEARLY;INTERVAL=1;BYDAY=-1SU;BYMONTH=3
END:DAYLIGHT
BEGIN:STANDARD
TZOFFSETFROM:+0200
TZOFFSETTO:+0100
TZNAME:CET
DTSTART:19701025T030000
RRULE:FREQ=YEARLY;INTERVAL=1;BYDAY=-1SU;BYMONTH=10
END:STANDARD
END:VTIMEZONE
BEGIN:VEVENT
UID:c2e5cbce1c7a90f13f8463cf95a91754@gruene-dessau.de
URL;VALUE=URI:https://gruene-dessau.de/termine/06-mai-buergerdialog-bildu
 ng/
LOCATION:
SUMMARY:Bürgerdialog „Bildung“
DESCRIPTION;ALTREP="data:text/html,%0A%3Cdiv%20class%3D%22wp-block-media-
 text%20is-stacked-on-mobile%22%20style%3D%22grid-template-columns%3A42%25
 %20auto%22%3E%3Cfigure%20class%3D%22wp-block-media-text__media%22%3E%3Cim
 g%20src%3D%22https%3A%2F%2Fgruene-dessau.de%2Fwp-content%2Fuploads%2Fsite
 s%2F290%2F2025%2F04%2F250407_Webseite_Titelbild_Dessau-1200x600-2.jpeg%22
 %20alt%3D%22%22%20class%3D%22wp-image-12426%20size-full%22%20%2F%3E%3C%2F
 figure%3E%3Cdiv%20class%3D%22wp-block-media-text__content%22%3E%0A%3Cp%20
 class%3D%22has-text-align-center%22%3E%F0%9F%95%A0%26nbsp%3B%3Cstrong%3E1
 7%3A30%20%E2%80%93%2019%3A00%20Uhr%26nbsp%3B%3C%2Fstrong%3E%3C%2Fp%3E%0A%
 0A%0A%0A%3Cp%20class%3D%22has-text-align-center%22%3E%3Cstrong%3E%F0%9F%9
 3%8D%26nbsp%3BKornhaus%2C%20Kornhausstra%C3%9Fe%20146%2C%20Dessau-Ro%C3%9
 Flau%20%26nbsp%3B%3C%2Fstrong%3E%3C%2Fp%3E%0A%0A%0A%0A%3Cp%20class%3D%22h
 as-text-align-center%22%3E%3Cstrong%3E%F0%9F%91%89%26nbsp%3B%3Ca%20href%3
 D%22https%3A%2F%2Fgruene-fraktion-lsa.de%2Ffraktion%2Fanmeldung-gruene-fr
 aktion-vor-ort-in-dessau-rosslau%22%20data-type%3D%22link%22%20data-id%3D
 %22https%3A%2F%2Fgruene-fraktion-lsa.de%2Ffraktion%2Fanmeldung-gruene-fra
 ktion-vor-ort-in-dessau-rosslau%22%20target%3D%22_blank%22%20rel%3D%22nor
 eferrer%20noopener%22%3EHier%20geht%E2%80%99s%20zur%20Anmeldung%26nbsp%3B
 %3C%2Fa%3E%3C%2Fstrong%3E%3C%2Fp%3E%0A%0A%0A%0A%3Cp%20class%3D%22has-text
 -align-center%22%3EWie%20kann%20eine%20zukunftsf%C3%A4hige%2C%20gerechte%
 20und%20qualitativ%20starke%20Schullandschaft%20in%20Dessau-Ro%C3%9Flau%2
 0aussehen%3F%26nbsp%3BWie%20st%C3%A4rken%20wir%20Bildung%20als%20%C3%B6ff
 entliche%20Aufgabe%20und%20sozialen%20Anker%20vor%20Ort%20%E2%80%93%20una
 bh%C3%A4ngig%20von%20reinen%20Zahlen%3F%3C%2Fp%3E%0A%0A%0A%0A%3Cp%20class
 %3D%22has-text-align-center%22%3EZu%20diesen%20und%20weiteren%20Fragen%20
 l%C3%A4dt%20die%20%3Ca%20href%3D%22https%3A%2F%2Fgruene-fraktion-lsa.de%2
 F%22%20data-type%3D%22link%22%20data-id%3D%22https%3A%2F%2Fgruene-fraktio
 n-lsa.de%2F%22%3ELandtagsfraktion%20von%20B%C3%BCndnis%2090%2FDie%20Gr%C3
 %BCnen%3C%2Fa%3E%20herzlich%20zum%20B%C3%BCrgerdialog%20ein.%3C%2Fp%3E%0A
 %3C%2Fdiv%3E%3C%2Fdiv%3E%0A%0A%0A%3Cnav%20class%3D%22is-responsive%20wp-b
 lock-navigation%20is-layout-flex%20wp-block-navigation-is-layout-flex%22%
 20data-wp-interactive%3D%22core%2Fnavigation%22%20data-wp-context%3D%27%7
 B%22overlayOpenedBy%22%3A%7B%22click%22%3Afalse%2C%22hover%22%3Afalse%2C%
 22focus%22%3Afalse%7D%2C%22type%22%3A%22overlay%22%2C%22roleAttribute%22%
 3A%22%22%2C%22ariaLabel%22%3A%22Men%5Cu00fc%22%7D%27%3E%3Cbutton%20aria-h
 aspopup%3D%22dialog%22%20aria-label%3D%22Men%C3%BC%20%C3%B6ffnen%22%20cla
 ss%3D%22wp-block-navigation__responsive-container-open%22%20data-wp-on--c
 lick%3D%22actions.openMenuOnClick%22%20data-wp-on--keydown%3D%22actions.h
 andleMenuKeydown%22%3E%3C%2Fbutton%3E%0A%09%09%09%09%3Cdiv%20class%3D%22w
 p-block-navigation__responsive-container%22%20id%3D%22modal-1%22%20data-w
 p-class--has-modal-open%3D%22state.isMenuOpen%22%20data-wp-class--is-menu
 -open%3D%22state.isMenuOpen%22%20data-wp-watch%3D%22callbacks.initMenu%22
 %20data-wp-on--keydown%3D%22actions.handleMenuKeydown%22%20data-wp-on--fo
 cusout%3D%22actions.handleMenuFocusout%22%3E%0A%09%09%09%09%09%3Cdiv%20cl
 ass%3D%22wp-block-navigation__responsive-close%22%3E%0A%09%09%09%09%09%09
 %3Cdiv%20class%3D%22wp-block-navigation__responsive-dialog%22%20data-wp-b
 ind--aria-modal%3D%22state.ariaModal%22%20data-wp-bind--aria-label%3D%22s
 tate.ariaLabel%22%20data-wp-bind--role%3D%22state.roleAttribute%22%3E%0A%
 09%09%09%09%09%09%09%3Cbutton%20aria-label%3D%22Men%C3%BC%20schlie%C3%9Fe
 n%22%20class%3D%22wp-block-navigation__responsive-container-close%22%20da
 ta-wp-on--click%3D%22actions.closeMenuOnClick%22%3E%3C%2Fbutton%3E%0A%09%
 09%09%09%09%09%09%3Cdiv%20class%3D%22wp-block-navigation__responsive-cont
 ainer-content%22%20data-wp-watch%3D%22callbacks.focusFirstElement%22%20id
 %3D%22modal-1-content%22%3E%0A%09%09%09%09%09%09%09%09%3Cul%20class%3D%22
 wp-block-navigation__container%20is-responsive%20wp-block-navigation%22%3
 E%3Cli%20class%3D%22%20wp-block-navigation-item%20%20menu-item%20menu-ite
 m-type-custom%20menu-item-object-custom%20wp-block-navigation-link%22%3E%
 3Ca%20class%3D%22wp-block-navigation-item__content%22%20href%3D%22http%3A
 %2F%2Fwww.steffi-lemke.de%22%20title%3D%22%22%3E%3Cspan%20class%3D%22wp-b
 lock-navigation-item__label%22%3ESteffi%20Lemke%2C%20MdB%3C%2Fspan%3E%3C%
 2Fa%3E%3C%2Fli%3E%3Cli%20class%3D%22%20wp-block-navigation-item%20%20menu
 -item%20menu-item-type-custom%20menu-item-object-custom%20wp-block-naviga
 tion-link%22%3E%3Ca%20class%3D%22wp-block-navigation-item__content%22%20h
 ref%3D%22http%3A%2F%2Fwww.cornelia-lueddemann.de%22%20title%3D%22%22%3E%3
 Cspan%20class%3D%22wp-block-navigation-item__label%22%3ECornelia%20L%C3%B
 Cddemann%2C%20MdL%3C%2Fspan%3E%3C%2Fa%3E%3C%2Fli%3E%3Cli%20class%3D%22%20
 wp-block-navigation-item%20%20menu-item%20menu-item-type-custom%20menu-it
 em-object-custom%20wp-block-navigation-link%22%3E%3Ca%20class%3D%22wp-blo
 ck-navigation-item__content%22%20href%3D%22http%3A%2F%2Fwww.fraktion-lbfg
 .de%22%20title%3D%22%22%3E%3Cspan%20class%3D%22wp-block-navigation-item__
 label%22%3EStadtratsfraktion%3C%2Fspan%3E%3C%2Fa%3E%3C%2Fli%3E%3Cli%20cla
 ss%3D%22%20wp-block-navigation-item%20%20menu-item%20menu-item-type-custo
 m%20menu-item-object-custom%20wp-block-navigation-link%22%3E%3Ca%20class%
 3D%22wp-block-navigation-item__content%22%20href%3D%22http%3A%2F%2Fwww.gr
 uene-sachsen-anhalt.de%22%20title%3D%22%22%3E%3Cspan%20class%3D%22wp-bloc
 k-navigation-item__label%22%3ELandesverband%3C%2Fspan%3E%3C%2Fa%3E%3C%2Fl
 i%3E%3Cli%20class%3D%22%20wp-block-navigation-item%20%20menu-item%20menu-
 item-type-custom%20menu-item-object-custom%20wp-block-navigation-link%22%
 3E%3Ca%20class%3D%22wp-block-navigation-item__content%22%20href%3D%22http
 %3A%2F%2Fwww.gruene.de%22%20title%3D%22%22%3E%3Cspan%20class%3D%22wp-bloc
 k-navigation-item__label%22%3EBundesverband%3C%2Fspan%3E%3C%2Fa%3E%3C%2Fl
 i%3E%3C%2Ful%3E%0A%09%09%09%09%09%09%09%3C%2Fdiv%3E%0A%09%09%09%09%09%09%
 3C%2Fdiv%3E%0A%09%09%09%09%09%3C%2Fdiv%3E%0A%09%09%09%09%3C%2Fdiv%3E%3C%2
 Fnav%3E%0A%0A%0A%3Ch2%20class%3D%22wp-block-heading%22%3E%3C%2Fh2%3E%0A%0
 A%0A%0A%3Cp%3E%3C%2Fp%3E%0A":🕠 17:30 – 19:00 Uhr \n\n📍 Kornhau
 s\, Kornhausstraße 146\, Dessau-Roßlau  \n\n👉 Hier geht’s zur An
 meldung \n\nWie kann eine zukunftsfähige\, gerechte und qualitativ star
 ke Schullandschaft in Dessau-Roßlau aussehen? Wie stärken wir Bildung 
 als öffentliche Aufgabe und sozialen Anker vor Ort – unabhängig von r
 einen Zahlen?\n\nZu diesen und weiteren Fragen lädt die Landtagsfraktion
  von Bündnis 90/Die Grünen herzlich zum Bürgerdialog ein.\n\n								S
 teffi Lemke\, MdBCornelia Lüddemann\, MdLStadtratsfraktionLandesverbandB
 undesverband
CLASS:PUBLIC
DTSTART;TZID=Europe/Berlin:20250506T170000
DTEND;TZID=Europe/Berlin:20250506T190000
DTSTAMP:20260425T205501
END:VEVENT
END:VCALENDAR