BEGIN:VCALENDAR
VERSION:2.0
PRODID:gruene-dessau.de
METHOD:PUBLISH
BEGIN:VTIMEZONE
TZID:Europe/Berlin
X-LIC-LOCATION:Europe/Berlin
BEGIN:DAYLIGHT
TZOFFSETFROM:+0100
TZOFFSETTO:+0200
TZNAME:CEST
DTSTART:19700329T020000
RRULE:FREQ=YEARLY;INTERVAL=1;BYDAY=-1SU;BYMONTH=3
END:DAYLIGHT
BEGIN:STANDARD
TZOFFSETFROM:+0200
TZOFFSETTO:+0100
TZNAME:CET
DTSTART:19701025T030000
RRULE:FREQ=YEARLY;INTERVAL=1;BYDAY=-1SU;BYMONTH=10
END:STANDARD
END:VTIMEZONE
BEGIN:VEVENT
UID:74b45d5116ef13ca91a3bb8bb169b266@gruene-dessau.de
URL;VALUE=URI:https://gruene-dessau.de/termine/14-september-city-run-dess
 au/
LOCATION:Rathauscenter Dessau, Ratsgasse, Dessau
SUMMARY:14. September City Run Dessau
DESCRIPTION;ALTREP="data:text/html,%0A%3Cp%3EEin%20Team%20aus%20Mitgliede
 rn%20unseres%20Kreisverbandes%20nimmt%20am%2026.%20City%20Run%20in%20der%
 20Dessauer%20Innenstadt%20teil%21%3C%2Fp%3E%0A%0A%0A%0A%3Cp%3E%3C%2Fp%3E%
 0A":Ein Team aus Mitgliedern unseres Kreisverbandes nimmt am 26. City Run
  in der Dessauer Innenstadt teil!
CLASS:PUBLIC
DTSTART;TZID=Europe/Berlin:20250914
DTEND;TZID=Europe/Berlin:20250915
DTSTAMP:20260425T210308
END:VEVENT
END:VCALENDAR