BEGIN:VCALENDAR
VERSION:2.0
PRODID:gruene-dessau.de
METHOD:PUBLISH
BEGIN:VTIMEZONE
TZID:Europe/Berlin
X-LIC-LOCATION:Europe/Berlin
BEGIN:DAYLIGHT
TZOFFSETFROM:+0100
TZOFFSETTO:+0200
TZNAME:CEST
DTSTART:19700329T020000
RRULE:FREQ=YEARLY;INTERVAL=1;BYDAY=-1SU;BYMONTH=3
END:DAYLIGHT
BEGIN:STANDARD
TZOFFSETFROM:+0200
TZOFFSETTO:+0100
TZNAME:CET
DTSTART:19701025T030000
RRULE:FREQ=YEARLY;INTERVAL=1;BYDAY=-1SU;BYMONTH=10
END:STANDARD
END:VTIMEZONE
BEGIN:VEVENT
UID:2d701c08fbc6d5d266bcbeda2f645175@gruene-dessau.de
URL;VALUE=URI:https://gruene-dessau.de/termine/15-11-zuhoerstand-in-dessa
 u-ort-folgt/
LOCATION:
SUMMARY:15.11.: Zuhörstand in Dessau (Ort folgt)
DESCRIPTION;ALTREP="data:text/html,%0A%3Cp%3EAm%2015.11.%20sind%20Mitglie
 der%20unseres%20Kreisverbandes%20wieder%20in%20der%20Dessau%20anwesend%20
 und%20treten%20mit%20unseren%20Mitb%C3%BCrgern%20ins%20Gespr%C3%A4ch.%3C%
 2Fp%3E%0A":Am 15.11. sind Mitglieder unseres Kreisverbandes wieder in der
  Dessau anwesend und treten mit unseren Mitbürgern ins Gespräch.
CLASS:PUBLIC
DTSTART;TZID=Europe/Berlin:20251115
DTEND;TZID=Europe/Berlin:20251116
DTSTAMP:20260425T210719
END:VEVENT
END:VCALENDAR