BEGIN:VCALENDAR
VERSION:2.0
PRODID:gruene-dessau.de
METHOD:PUBLISH
BEGIN:VTIMEZONE
TZID:Europe/Berlin
X-LIC-LOCATION:Europe/Berlin
BEGIN:DAYLIGHT
TZOFFSETFROM:+0100
TZOFFSETTO:+0200
TZNAME:CEST
DTSTART:19700329T020000
RRULE:FREQ=YEARLY;INTERVAL=1;BYDAY=-1SU;BYMONTH=3
END:DAYLIGHT
BEGIN:STANDARD
TZOFFSETFROM:+0200
TZOFFSETTO:+0100
TZNAME:CET
DTSTART:19701025T030000
RRULE:FREQ=YEARLY;INTERVAL=1;BYDAY=-1SU;BYMONTH=10
END:STANDARD
END:VTIMEZONE
BEGIN:VEVENT
UID:78db33f0f9789dad7dedaea88edf35e9@gruene-dessau.de
URL;VALUE=URI:https://gruene-dessau.de/termine/17-10-kiez-kino-moellner-b
 riefe-und-gespraechsrunde/
LOCATION:Kiez Kino, Bertolt-Brecht-Straße 29 A, Dessau
SUMMARY:17.10.: Kiez-Kino: „Möllner Briefe“ und Gesprächsrunde
DESCRIPTION;ALTREP="data:text/html,%0A%3Cp%3EIn%20Kooperation%20mit%20dem
 %20Kiez-Kino%20bieten%20wir%20die%20M%C3%B6glichkeit%20einer%20Gespr%C3%A
 4chsrunde%20zwischen%20unserem%20Kreisverband%20und%20Interessierten%20%C
 3%BCber%20den%20Film%20%22Die%20M%C3%B6llner%20Briefe%22.%20%3C%2Fp%3E%0A
 %0A%0A%0A%3Cp%3EDer%20Film%20thematiesiert%20das%20Leben%20das%20Leben%20
 von%20%C4%B0brahim%20Arslan%20und%20seiner%20Familie.%20Der%20damals%20si
 ebenj%C3%A4hrige%20%C4%B0brahim%20%C3%BCberlebte%20einen%20rassitisch%20M
 motivierten%20Brandanschlag%2C%20verlor%20jedoch%20seine%20Schwester%2C%2
 0seine%20Cousine%20und%20seine%20Gro%C3%9Fmutter.%20Hundertfach%20erhielt
 %20die%20Stadt%20Solidarit%C3%A4tsbriefe%2C%20die%20bei%20den%20Betroffen
 en%20aber%20jahrzehntelang%20nicht%20ankamen.%20Der%20Film%20begleitet%20
 %C4%B0brahim%20bei%20der%20Wiederentdeckung%20der%20Briefe%20und%20den%20
 Begegnungen%20mit%20drei%20Verfasser%2Ainnen.%3C%2Fp%3E%0A%0A%0A%0A%3Cp%3
 E%3C%2Fp%3E%0A":In Kooperation mit dem Kiez-Kino bieten wir die Möglichk
 eit einer Gesprächsrunde zwischen unserem Kreisverband und Interessierte
 n über den Film "Die Möllner Briefe".\n\nDer Film thematiesiert das Leb
 en das Leben von İbrahim Arslan und seiner Familie. Der damals siebenjä
 hrige İbrahim überlebte einen rassitisch Mmotivierten Brandanschlag\, v
 erlor jedoch seine Schwester\, seine Cousine und seine Großmutter. Hunde
 rtfach erhielt die Stadt Solidaritätsbriefe\, die bei den Betroffenen ab
 er jahrzehntelang nicht ankamen. Der Film begleitet İbrahim bei der Wied
 erentdeckung der Briefe und den Begegnungen mit drei Verfasser*innen.
CLASS:PUBLIC
DTSTART;TZID=Europe/Berlin:20251017T173000
DTEND;TZID=Europe/Berlin:20251017T000000
DTSTAMP:20260425T210719
END:VEVENT
END:VCALENDAR