BEGIN:VCALENDAR
VERSION:2.0
PRODID:gruene-dessau.de
METHOD:PUBLISH
BEGIN:VTIMEZONE
TZID:Europe/Berlin
X-LIC-LOCATION:Europe/Berlin
BEGIN:DAYLIGHT
TZOFFSETFROM:+0100
TZOFFSETTO:+0200
TZNAME:CEST
DTSTART:19700329T020000
RRULE:FREQ=YEARLY;INTERVAL=1;BYDAY=-1SU;BYMONTH=3
END:DAYLIGHT
BEGIN:STANDARD
TZOFFSETFROM:+0200
TZOFFSETTO:+0100
TZNAME:CET
DTSTART:19701025T030000
RRULE:FREQ=YEARLY;INTERVAL=1;BYDAY=-1SU;BYMONTH=10
END:STANDARD
END:VTIMEZONE
BEGIN:VEVENT
UID:81e65d277337ac9425b203a1144f88ff@gruene-dessau.de
URL;VALUE=URI:https://gruene-dessau.de/termine/17-mai-unser-stand-beim-cs
 d/
LOCATION:Marktplatz Dessau, Zerbster Straße 4, Dessau
SUMMARY:Unser Stand beim CSD
DESCRIPTION;ALTREP="data:text/html,%0A%3Cdiv%20class%3D%22wp-block-media-
 text%20has-media-on-the-right%20is-stacked-on-mobile%22%20style%3D%22grid
 -template-columns%3Aauto%2032%25%22%3E%3Cdiv%20class%3D%22wp-block-media-
 text__content%22%3E%0A%3Cp%20class%3D%22has-text-align-center%22%3E%F0%9F
 %95%A0%20%3Cstrong%3E12.00%20-%2019%20Uhr%3C%2Fstrong%3E%3C%2Fp%3E%0A%0A%
 0A%0A%3Cp%20class%3D%22has-text-align-center%22%3E%3Cstrong%3E%F0%9F%93%8
 D%26nbsp%3BMarktplatz%20Dessau%3C%2Fstrong%3E%3C%2Fp%3E%0A%0A%0A%0A%3Cp%2
 0class%3D%22has-text-align-center%22%3EToleranz%2C%20Vielfalt%2C%20Respek
 t%20und%20vor%20allem%20auch%20Sichtbarkeit%20in%20den%20l%C3%A4ndlichen%
 20Regionen%20unseres%20Bundeslandes%20stehen%20im%20Mittelpunkt%20der%20%
 3Ca%20href%3D%22https%3A%2F%2Fcsd-sachsenanhalt.de%2F%22%20data-type%3D%2
 2link%22%20data-id%3D%22https%3A%2F%2Fcsd-sachsenanhalt.de%2F%22%3ECSD%20
 in%20Sachsen-Anhalt%3C%2Fa%3E.%3C%2Fp%3E%0A%0A%0A%0A%3Cp%20class%3D%22has
 -text-align-center%22%3EAm%2017.%20Mai%20sind%20auch%20wir%20vor%20Ort%20
 und%20unterst%C3%BCtzen%20den%20Kampf%20f%C3%BCr%20die%20Rechte%20und%20G
 leichberechtigung%20Queerer%20Menschen%21%3C%2Fp%3E%0A%3C%2Fdiv%3E%3Cfigu
 re%20class%3D%22wp-block-media-text__media%22%3E%3Cimg%20src%3D%22https%3
 A%2F%2Fgruene-dessau.de%2Fwp-content%2Fuploads%2Fsites%2F290%2F2025%2F04%
 2FWhatsApp-Bild-2025-04-30-um-20.53.33_174933b7-400x500.jpg%22%20alt%3D%2
 2%22%20class%3D%22wp-image-12438%20size-full%22%20%2F%3E%3C%2Ffigure%3E%3
 C%2Fdiv%3E%0A%0A%0A%0A%3Cp%3E%3C%2Fp%3E%0A":🕠 12.00 - 19 Uhr\n\n📍 
 Marktplatz Dessau\n\nToleranz\, Vielfalt\, Respekt und vor allem auch Sic
 htbarkeit in den ländlichen Regionen unseres Bundeslandes stehen im Mitt
 elpunkt der CSD in Sachsen-Anhalt.\n\nAm 17. Mai sind auch wir vor Ort un
 d unterstützen den Kampf für die Rechte und Gleichberechtigung Queerer 
 Menschen!
CLASS:PUBLIC
DTSTART;TZID=Europe/Berlin:20250517T120000
DTEND;TZID=Europe/Berlin:20250517T190000
DTSTAMP:20260425T210653
END:VEVENT
END:VCALENDAR