BEGIN:VCALENDAR
VERSION:2.0
PRODID:gruene-dessau.de
METHOD:PUBLISH
BEGIN:VTIMEZONE
TZID:Europe/Berlin
X-LIC-LOCATION:Europe/Berlin
BEGIN:DAYLIGHT
TZOFFSETFROM:+0100
TZOFFSETTO:+0200
TZNAME:CEST
DTSTART:19700329T020000
RRULE:FREQ=YEARLY;INTERVAL=1;BYDAY=-1SU;BYMONTH=3
END:DAYLIGHT
BEGIN:STANDARD
TZOFFSETFROM:+0200
TZOFFSETTO:+0100
TZNAME:CET
DTSTART:19701025T030000
RRULE:FREQ=YEARLY;INTERVAL=1;BYDAY=-1SU;BYMONTH=10
END:STANDARD
END:VTIMEZONE
BEGIN:VEVENT
UID:88e1c2a7e68da9da6d29622a95e6a355@gruene-dessau.de
URL;VALUE=URI:https://gruene-dessau.de/termine/18-10-zuhoerstand-naehe-ma
 rktplatz/
LOCATION:
SUMMARY:18.10.: Zuhörstand nähe Marktplatz
DESCRIPTION;ALTREP="data:text/html,%0A%3Cp%3EAm%2018.10.%20sind%20Mitglie
 der%20unseres%20Kreisverbandes%20wieder%20in%20der%20Dessauer%20Innenstad
 t%20anwesend%20und%20treten%20mit%20unseren%20Mitb%C3%BCrgern%20ins%20Ges
 pr%C3%A4ch.%3C%2Fp%3E%0A%0A%0A%0A%3Cp%3E%3C%2Fp%3E%0A":Am 18.10. sind Mit
 glieder unseres Kreisverbandes wieder in der Dessauer Innenstadt anwesend
  und treten mit unseren Mitbürgern ins Gespräch.
CLASS:PUBLIC
DTSTART;TZID=Europe/Berlin:20251018
DTEND;TZID=Europe/Berlin:20251019
DTSTAMP:20260425T210709
END:VEVENT
END:VCALENDAR