BEGIN:VCALENDAR
VERSION:2.0
PRODID:gruene-dessau.de
METHOD:PUBLISH
BEGIN:VTIMEZONE
TZID:Europe/Berlin
X-LIC-LOCATION:Europe/Berlin
BEGIN:DAYLIGHT
TZOFFSETFROM:+0100
TZOFFSETTO:+0200
TZNAME:CEST
DTSTART:19700329T020000
RRULE:FREQ=YEARLY;INTERVAL=1;BYDAY=-1SU;BYMONTH=3
END:DAYLIGHT
BEGIN:STANDARD
TZOFFSETFROM:+0200
TZOFFSETTO:+0100
TZNAME:CET
DTSTART:19701025T030000
RRULE:FREQ=YEARLY;INTERVAL=1;BYDAY=-1SU;BYMONTH=10
END:STANDARD
END:VTIMEZONE
BEGIN:VEVENT
UID:f56a5540f1c1f66050ff8072a407ad34@gruene-dessau.de
URL;VALUE=URI:https://gruene-dessau.de/termine/20-september-world-cleanup
 -day/
LOCATION:Dessau
SUMMARY:20. September: World Cleanup Day
DESCRIPTION;ALTREP="data:text/html,%0A%3Cdiv%20class%3D%22wp-block-media-
 text%20is-stacked-on-mobile%22%20style%3D%22grid-template-columns%3A32%25
 %20auto%22%3E%3Cfigure%20class%3D%22wp-block-media-text__media%22%3E%3Cim
 g%20src%3D%22https%3A%2F%2Fgruene-dessau.de%2Fwp-content%2Fuploads%2Fsite
 s%2F290%2F2025%2F07%2Fworldcleanupday.png%22%20alt%3D%22%22%20class%3D%22
 wp-image-12594%20size-full%22%20%2F%3E%3C%2Ffigure%3E%3Cdiv%20class%3D%22
 wp-block-media-text__content%22%3E%0A%3Cp%3EWir%20sind%20dabei%20und%20se
 tzen%20ein%20Zeichen%20gegen%20die%20Verschmutzung%20unserer%20Stadt%20un
 d%20der%20Welt.%20%3C%2Fp%3E%0A%0A%0A%0A%3Cp%3E2024%20verzeichnete%20die%
 20Aktion%20in%20Deutschland%20Rekordzahlen%2C%20wobei%20insgesamt%20%C3%B
 Cber%202.000%20Tonnen%20M%C3%BCll%20gesammelt%20wurden.%20Die%20Aktion%20
 fand%20in%20%C3%BCber%203.000%20St%C3%A4dten%20und%20Gemeinden%20statt.%3
 C%2Fp%3E%0A%0A%0A%0A%3Cp%3EDessau-Ro%C3%9Flau%20ist%20wiedermal%20mit%20c
 a.%2015%20Sammelstellen%20dabei.%20Die%20genauen%20Standorte%20werden%20%
 C3%BCber%20die%20lokalen%20Medien%20bekannt%20gegeben.%20%3C%2Fp%3E%0A%0A
 %0A%0A%3Cp%3EUnser%20Kreisverband%20wird%20sich%20wie%20bisher%20auch%20m
 it%20einem%20eigenen%20Stand%20beteiligen%20und%20als%20Team%20auftreten.
 %20Genauere%20Infos%20dazu%20werden%20sp%C3%A4ter%20bekanntgegeben.%3C%2F
 p%3E%0A%3C%2Fdiv%3E%3C%2Fdiv%3E%0A%0A%0A%0A%3Cp%3E%3C%2Fp%3E%0A":Wir sind
  dabei und setzen ein Zeichen gegen die Verschmutzung unserer Stadt und d
 er Welt.\n\n2024 verzeichnete die Aktion in Deutschland Rekordzahlen\, wo
 bei insgesamt über 2.000 Tonnen Müll gesammelt wurden. Die Aktion fand 
 in über 3.000 Städten und Gemeinden statt.\n\nDessau-Roßlau ist wieder
 mal mit ca. 15 Sammelstellen dabei. Die genauen Standorte werden über di
 e lokalen Medien bekannt gegeben.\n\nUnser Kreisverband wird sich wie bis
 her auch mit einem eigenen Stand beteiligen und als Team auftreten. Genau
 ere Infos dazu werden später bekanntgegeben.
CLASS:PUBLIC
DTSTART;TZID=Europe/Berlin:20250920T110000
DTEND;TZID=Europe/Berlin:20250920T130000
DTSTAMP:20260425T210653
END:VEVENT
END:VCALENDAR