BEGIN:VCALENDAR
VERSION:2.0
PRODID:gruene-dessau.de
METHOD:PUBLISH
BEGIN:VTIMEZONE
TZID:Europe/Berlin
X-LIC-LOCATION:Europe/Berlin
BEGIN:DAYLIGHT
TZOFFSETFROM:+0100
TZOFFSETTO:+0200
TZNAME:CEST
DTSTART:19700329T020000
RRULE:FREQ=YEARLY;INTERVAL=1;BYDAY=-1SU;BYMONTH=3
END:DAYLIGHT
BEGIN:STANDARD
TZOFFSETFROM:+0200
TZOFFSETTO:+0100
TZNAME:CET
DTSTART:19701025T030000
RRULE:FREQ=YEARLY;INTERVAL=1;BYDAY=-1SU;BYMONTH=10
END:STANDARD
END:VTIMEZONE
BEGIN:VEVENT
UID:be5f3845a7d1d504c3929084c51b3e4c@gruene-dessau.de
URL;VALUE=URI:https://gruene-dessau.de/termine/26-1-neujahresempfang/
LOCATION:
SUMMARY:26.1.: Neujahresempfang
DESCRIPTION;ALTREP="data:text/html,%0A%3Cp%3E%28in%20Planung%29%3C%2Fp%3E
 %0A":(in Planung)
CLASS:PUBLIC
DTSTART;TZID=Europe/Berlin:20260126
DTEND;TZID=Europe/Berlin:20260127
DTSTAMP:20260425T205507
END:VEVENT
END:VCALENDAR