BEGIN:VCALENDAR
VERSION:2.0
PRODID:gruene-dessau.de
METHOD:PUBLISH
BEGIN:VTIMEZONE
TZID:Europe/Berlin
X-LIC-LOCATION:Europe/Berlin
BEGIN:DAYLIGHT
TZOFFSETFROM:+0100
TZOFFSETTO:+0200
TZNAME:CEST
DTSTART:19700329T020000
RRULE:FREQ=YEARLY;INTERVAL=1;BYDAY=-1SU;BYMONTH=3
END:DAYLIGHT
BEGIN:STANDARD
TZOFFSETFROM:+0200
TZOFFSETTO:+0100
TZNAME:CET
DTSTART:19701025T030000
RRULE:FREQ=YEARLY;INTERVAL=1;BYDAY=-1SU;BYMONTH=10
END:STANDARD
END:VTIMEZONE
BEGIN:VEVENT
UID:8b53d0fb3b5bdb8a8264cf5717ad111e@gruene-dessau.de
URL;VALUE=URI:https://gruene-dessau.de/termine/29-august-sommerfest/
LOCATION:
SUMMARY:29. August:  Sommerfest
DESCRIPTION;ALTREP="data:text/html,%0A%3Cp%3EWir%20feiern%20mit%20unseren
 %20Mitgliedern%2C%20Freunden%20und%20Familie%20%28Sommerfest%20KV-intern%
 29%3C%2Fp%3E%0A":Wir feiern mit unseren Mitgliedern\, Freunden und Famili
 e (Sommerfest KV-intern)
CLASS:PUBLIC
DTSTART;TZID=Europe/Berlin:20250829T170000
DTEND;TZID=Europe/Berlin:20250829T000000
DTSTAMP:20260425T205350
END:VEVENT
END:VCALENDAR