BEGIN:VCALENDAR
VERSION:2.0
PRODID:gruene-dessau.de
METHOD:PUBLISH
BEGIN:VTIMEZONE
TZID:Europe/Berlin
X-LIC-LOCATION:Europe/Berlin
BEGIN:DAYLIGHT
TZOFFSETFROM:+0100
TZOFFSETTO:+0200
TZNAME:CEST
DTSTART:19700329T020000
RRULE:FREQ=YEARLY;INTERVAL=1;BYDAY=-1SU;BYMONTH=3
END:DAYLIGHT
BEGIN:STANDARD
TZOFFSETFROM:+0200
TZOFFSETTO:+0100
TZNAME:CET
DTSTART:19701025T030000
RRULE:FREQ=YEARLY;INTERVAL=1;BYDAY=-1SU;BYMONTH=10
END:STANDARD
END:VTIMEZONE
BEGIN:VEVENT
UID:2cd103f38b53865f644defeafd807761@gruene-dessau.de
URL;VALUE=URI:https://gruene-dessau.de/termine/30-august-picknick-und-dis
 kussion/
LOCATION:Leopoldshafen, Dessau
SUMMARY:30. August: Picknick und Diskussion
DESCRIPTION;ALTREP="data:text/html,%0A%3Cp%3EDie%20Zukunft%20der%20Elbe%2
 0wird%20ma%C3%9Fgeblich%20vom%20Klimawandel%20bestimmt%20werden.%20Sei%20
 dabei%2C%20wenn%20wir%20auf%20dem%20Deich%20am%20Leopoldshafen%20bei%20ei
 nem%20Picknick%20diskutieren.%20Bitte%20Picknickdecke%2C%20Essen%2C%20Get
 r%C3%A4nke%2C%20sowie%20Fragen%20und%20Ideen%20mitbringen%21%3C%2Fp%3E%0A
 %0A%0A%0A%3Cp%3E%3C%2Fp%3E%0A":Die Zukunft der Elbe wird maßgeblich vom 
 Klimawandel bestimmt werden. Sei dabei\, wenn wir auf dem Deich am Leopol
 dshafen bei einem Picknick diskutieren. Bitte Picknickdecke\, Essen\, Get
 ränke\, sowie Fragen und Ideen mitbringen!
CLASS:PUBLIC
DTSTART;TZID=Europe/Berlin:20250830T103000
DTEND;TZID=Europe/Berlin:20250830T000000
DTSTAMP:20260425T205345
END:VEVENT
END:VCALENDAR