BEGIN:VCALENDAR
VERSION:2.0
PRODID:gruene-dessau.de
METHOD:PUBLISH
BEGIN:VTIMEZONE
TZID:Europe/Berlin
X-LIC-LOCATION:Europe/Berlin
BEGIN:DAYLIGHT
TZOFFSETFROM:+0100
TZOFFSETTO:+0200
TZNAME:CEST
DTSTART:19700329T020000
RRULE:FREQ=YEARLY;INTERVAL=1;BYDAY=-1SU;BYMONTH=3
END:DAYLIGHT
BEGIN:STANDARD
TZOFFSETFROM:+0200
TZOFFSETTO:+0100
TZNAME:CET
DTSTART:19701025T030000
RRULE:FREQ=YEARLY;INTERVAL=1;BYDAY=-1SU;BYMONTH=10
END:STANDARD
END:VTIMEZONE
BEGIN:VEVENT
UID:5c8cd7713b838d3cccbbd3b13f89ed88@gruene-dessau.de
URL;VALUE=URI:https://gruene-dessau.de/termine/6-september-stadtradeln/
LOCATION:Dessau, Dessau
SUMMARY:6.September: Stadtradeln
DESCRIPTION;ALTREP="data:text/html,%0A%3Cdiv%20class%3D%22wp-block-group%
 20is-vertical%20is-layout-flex%20wp-container-core-group-is-layout-8cf370
 e7%20wp-block-group-is-layout-flex%22%3E%0A%3Cp%20class%3D%22has-text-ali
 gn-center%22%3E21%20Tage%20lang%20sammelt%20unsere%20Kommune%20jeden%20Me
 ter%20Strecke%2C%20der%20mit%20dem%20Rad%20zur%C3%BCckgelegt%20wurde%20un
 d%20stellt%20sich%20dem%20Vergleich%20mit%20anderen%20St%C3%A4dten%20und%
 20Gemeinden%20in%20Deutschland.%3C%2Fp%3E%0A%0A%0A%0A%3Cp%20class%3D%22ha
 s-text-align-center%22%3E%3Ca%20href%3D%22https%3A%2F%2Fwww.stadtradeln.d
 e%2Fdarum-geht-es%22%3ESTADTRADELN%20%3C%2Fa%3Eist%20eine%20Kampagne%2C%2
 0die%20die%20Lokalpolitik%20auf%20die%20Vorteile%20des%20Radfahrens%2C%20
 aber%20auch%20auf%20Probleme%20der%20Radinfrastruktur%20in%20der%20Region
 %20aufmerksam%20machen%20soll.%3C%2Fp%3E%0A%0A%0A%0A%3Cp%20class%3D%22has
 -text-align-center%22%3EWir%20sind%20als%20eigenes%20Team%20dabei%20und%2
 0sammeln%20Kilometer%20f%C3%BCr%20unsere%20Stadt.%3C%2Fp%3E%0A%0A%0A%0A%3
 Cp%20class%3D%22has-text-align-center%22%3EAlle%2C%20die%20in%20der%20Sta
 dt%20Dessau-Ro%C3%9Flau%20wohnen%2C%20arbeiten%2C%20einem%20Verein%20ange
 h%C3%B6ren%20oder%20eine%20%28Hoch-%29Schule%3Cbr%3Ebesuchen%2C%20k%C3%B6
 nnen%20beim%20STADTRADELN%20mitmachen.%3C%2Fp%3E%0A%3C%2Fdiv%3E%0A%0A%0A%
 0A%3Cp%3E%3C%2Fp%3E%0A%0A%0A%0A%3Cfigure%20class%3D%22wp-block-image%20al
 igncenter%20size-full%22%3E%3Cimg%20src%3D%22https%3A%2F%2Fgruene-dessau.
 de%2Fwp-content%2Fuploads%2Fsites%2F290%2F2025%2F07%2FUnbenannt-1.png%22%
 20alt%3D%22%22%20class%3D%22wp-image-12597%22%20%2F%3E%3C%2Ffigure%3E%0A%
 0A%0A%0A%3Cp%3E%3C%2Fp%3E%0A%0A%0A%0A%3Cp%3E%3C%2Fp%3E%0A":21 Tage lang s
 ammelt unsere Kommune jeden Meter Strecke\, der mit dem Rad zurückgelegt
  wurde und stellt sich dem Vergleich mit anderen Städten und Gemeinden i
 n Deutschland.\n\nSTADTRADELN ist eine Kampagne\, die die Lokalpolitik au
 f die Vorteile des Radfahrens\, aber auch auf Probleme der Radinfrastrukt
 ur in der Region aufmerksam machen soll.\n\nWir sind als eigenes Team dab
 ei und sammeln Kilometer für unsere Stadt.\n\nAlle\, die in der Stadt De
 ssau-Roßlau wohnen\, arbeiten\, einem Verein angehören oder eine (Hoch-
 )Schulebesuchen\, können beim STADTRADELN mitmachen.
CLASS:PUBLIC
DTSTART;TZID=Europe/Berlin:20250906
DTEND;TZID=Europe/Berlin:20250927
DTSTAMP:20260425T205852
END:VEVENT
END:VCALENDAR