BEGIN:VCALENDAR
VERSION:2.0
PRODID:gruene-dessau.de
METHOD:PUBLISH
BEGIN:VTIMEZONE
TZID:Europe/Berlin
X-LIC-LOCATION:Europe/Berlin
BEGIN:DAYLIGHT
TZOFFSETFROM:+0100
TZOFFSETTO:+0200
TZNAME:CEST
DTSTART:19700329T020000
RRULE:FREQ=YEARLY;INTERVAL=1;BYDAY=-1SU;BYMONTH=3
END:DAYLIGHT
BEGIN:STANDARD
TZOFFSETFROM:+0200
TZOFFSETTO:+0100
TZNAME:CET
DTSTART:19701025T030000
RRULE:FREQ=YEARLY;INTERVAL=1;BYDAY=-1SU;BYMONTH=10
END:STANDARD
END:VTIMEZONE
BEGIN:VEVENT
UID:5a214d34e3a2d7d3d47d5415bcf7a0d2@gruene-dessau.de
URL;VALUE=URI:https://gruene-dessau.de/termine/gruener-abend-verkehrssich
 erheit-tempo-30-und-sichere-radwege/
LOCATION:Brauhaus "Zum Alten Dessauer", Lange Gasse 16, Dessau-Roßlau
SUMMARY:GRÜNER ABEND: Verkehrssicherheit, Tempo 30 und sichere Radwege
DESCRIPTION;ALTREP="data:text/html,%0A%3Cfigure%20class%3D%22wp-block-gal
 lery%20has-nested-images%20columns-default%20is-cropped%20wp-block-galler
 y-1%20is-layout-flex%20wp-block-gallery-is-layout-flex%22%3E%0A%3Cfigure%
 20class%3D%22wp-block-image%20size-large%22%3E%3Cimg%20data-id%3D%2212770
 %22%20src%3D%22https%3A%2F%2Fgruene-dessau.de%2Fwp-content%2Fuploads%2Fsi
 tes%2F290%2F2025%2F10%2FIMG_0728-1-400x500.jpg%22%20alt%3D%22%22%20class%
 3D%22wp-image-12770%22%20%2F%3E%3C%2Ffigure%3E%0A%0A%0A%0A%3Cfigure%20cla
 ss%3D%22wp-block-image%20size-large%22%3E%3Cimg%20data-id%3D%2212768%22%2
 0src%3D%22https%3A%2F%2Fgruene-dessau.de%2Fwp-content%2Fuploads%2Fsites%2
 F290%2F2025%2F10%2FIMG_0729-1-400x500.jpg%22%20alt%3D%22%22%20class%3D%22
 wp-image-12768%22%20%2F%3E%3C%2Ffigure%3E%0A%0A%0A%0A%3Cfigure%20class%3D
 %22wp-block-image%20size-large%22%3E%3Cimg%20data-id%3D%2212769%22%20src%
 3D%22https%3A%2F%2Fgruene-dessau.de%2Fwp-content%2Fuploads%2Fsites%2F290%
 2F2025%2F10%2FIMG_0730-1-400x500.jpg%22%20alt%3D%22%22%20class%3D%22wp-im
 age-12769%22%20%2F%3E%3C%2Ffigure%3E%0A%3C%2Ffigure%3E%0A%0A%0A%0A%3Cp%3E
 Seit%20%C3%BCber%2025%20Jahren%20setzen%20sich%20engagierte%20B%C3%BCrger
 innen%20und%20B%C3%BCrger%20f%C3%BCr%20mehr%20Verkehrssicherheit%20in%20d
 er%20Ziebigker%20Stra%C3%9Fe%20ein%20-%20besonders%20f%C3%BCr%20Kinder%2C
 %20Radfahrende%20und%20%C3%A4ltere%20Menschen.%20Trotz%20vieler%20Initiat
 iven%20passiert%20vor%20Ort%20zu%20wenig.%20Ziel%20des%20Gr%C3%BCnen%20Ab
 ends%20ist%20es%2C%20gemeinsam%20mit%20Anwohnenden%2C%20Fachleuten%20und%
 20Engagierten%20ins%20Gespr%C3%A4ch%20zu%20kommen%2C%20um%20L%C3%B6sungen
 %20f%C3%BCr%20mehr%20Sicherheit%20und%20lebensfreundliche%20Mobilit%C3%A4
 t%20in%20der%20Ziebigker%20Stra%C3%9Fe%20zu%20entwickeln.%20Unsere%20Land
 tagsabgeordnete%20und%20Fraktionsvorsitzende%20Cornelia%20L%C3%BCddemann%
 20f%C3%BChrt%20durch%20den%20Abend.%20Zu%20Gast%20sind%3A%20die%20Spielpl
 atzinitiative%2C%20der%20ADFC%20und%20weitere%20Engagierte%20in%20Dessau-
 Ro%C3%9Flau.%3C%2Fp%3E%0A":Seit über 25 Jahren setzen sich engagierte B
 ürgerinnen und Bürger für mehr Verkehrssicherheit in der Ziebigker Str
 aße ein - besonders für Kinder\, Radfahrende und ältere Menschen. Trot
 z vieler Initiativen passiert vor Ort zu wenig. Ziel des Grünen Abends i
 st es\, gemeinsam mit Anwohnenden\, Fachleuten und Engagierten ins Gespr
 äch zu kommen\, um Lösungen für mehr Sicherheit und lebensfreundliche 
 Mobilität in der Ziebigker Straße zu entwickeln. Unsere Landtagsabgeord
 nete und Fraktionsvorsitzende Cornelia Lüddemann führt durch den Abend.
  Zu Gast sind: die Spielplatzinitiative\, der ADFC und weitere Engagierte
  in Dessau-Roßlau.
CLASS:PUBLIC
DTSTART;TZID=Europe/Berlin:20251001T190000
DTEND;TZID=Europe/Berlin:20251001T210000
DTSTAMP:20260425T210730
END:VEVENT
END:VCALENDAR