BEGIN:VCALENDAR
VERSION:2.0
PRODID:gruene-dessau.de
METHOD:PUBLISH
BEGIN:VTIMEZONE
TZID:Europe/Berlin
X-LIC-LOCATION:Europe/Berlin
BEGIN:DAYLIGHT
TZOFFSETFROM:+0100
TZOFFSETTO:+0200
TZNAME:CEST
DTSTART:19700329T020000
RRULE:FREQ=YEARLY;INTERVAL=1;BYDAY=-1SU;BYMONTH=3
END:DAYLIGHT
BEGIN:STANDARD
TZOFFSETFROM:+0200
TZOFFSETTO:+0100
TZNAME:CET
DTSTART:19701025T030000
RRULE:FREQ=YEARLY;INTERVAL=1;BYDAY=-1SU;BYMONTH=10
END:STANDARD
END:VTIMEZONE
BEGIN:VEVENT
UID:b2ae97b42db54950deb8168a2e884173@gruene-dessau.de
URL;VALUE=URI:https://gruene-dessau.de/termine/csd-dessau-rosslau/
LOCATION:Dessau-Roßlau
SUMMARY:CSD  Dessau-Roßlau
DESCRIPTION;ALTREP="data:text/html,%0A%3Cp%3EWir%20sind%20mit%20einem%20P
 avillon%20dabei%21%3C%2Fp%3E%0A":Wir sind mit einem Pavillon dabei!
CLASS:PUBLIC
DTSTART;TZID=Europe/Berlin:20260502
DTEND;TZID=Europe/Berlin:20260503
DTSTAMP:20260425T182732
END:VEVENT
BEGIN:VEVENT
UID:fc89a45136c9e3319221c95a673d5a12@gruene-dessau.de
URL;VALUE=URI:https://gruene-dessau.de/termine/bier-mit-banaszak/
LOCATION:Dessau-Roßlau
SUMMARY:Bier mit Banaszak
DESCRIPTION;ALTREP="data:text/html,":
CLASS:PUBLIC
DTSTART;TZID=Europe/Berlin:20260511
DTEND;TZID=Europe/Berlin:20260512
DTSTAMP:20260425T182732
END:VEVENT
BEGIN:VEVENT
UID:b2650d0bae2236ad7d322d401f3ed854@gruene-dessau.de
URL;VALUE=URI:https://gruene-dessau.de/termine/auftakt-stadtradeln/
LOCATION:Dessau-Roßlau
SUMMARY:Auftakt Stadtradeln
DESCRIPTION;ALTREP="data:text/html,":
CLASS:PUBLIC
DTSTART;TZID=Europe/Berlin:20260606
DTEND;TZID=Europe/Berlin:20260607
DTSTAMP:20260425T182732
END:VEVENT
BEGIN:VEVENT
UID:c84eef23f72aa826877d1471542792c7@gruene-dessau.de
URL;VALUE=URI:https://gruene-dessau.de/termine/sommerfest-des-kreisverban
 des/
LOCATION:
SUMMARY:Sommerfest des Kreisverbandes
DESCRIPTION;ALTREP="data:text/html,":
CLASS:PUBLIC
DTSTART;TZID=Europe/Berlin:20260619
DTEND;TZID=Europe/Berlin:20260620
DTSTAMP:20260425T182732
END:VEVENT
BEGIN:VEVENT
UID:b89d9539f898d73dc6d46cd62ac52fa4@gruene-dessau.de
URL;VALUE=URI:https://gruene-dessau.de/termine/wahlparty-kv-dessau-rossla
 u/
LOCATION:Dessau-Roßlau
SUMMARY:Wahlparty KV Dessau-Roßlau
DESCRIPTION;ALTREP="data:text/html,":
CLASS:PUBLIC
DTSTART;TZID=Europe/Berlin:20260906
DTEND;TZID=Europe/Berlin:20260907
DTSTAMP:20260425T182732
END:VEVENT
END:VCALENDAR